View In:
ArcGIS JavaScript
ArcGIS Online Map Viewer
ArcGIS Earth
Service Description: Imagery/Eroze_LPIS
Name: Imagery/Eroze_LPIS
Description:
Single Fused Map Cache: false
Extent:
XMin: -752083.3078884584
YMin: -1031298.2218393083
XMax: -749111.5019448414
YMax: -1028821.7168862941
Spatial Reference: 102067
(5514)
LatestVCSWkid(0)
Initial Extent:
XMin: -752083.3078884584
YMin: -1031298.2218393083
XMax: -749111.5019448414
YMax: -1028821.7168862941
Spatial Reference: 102067
(5514)
LatestVCSWkid(0)
Full Extent:
XMin: -752083.3078884584
YMin: -1031298.2218393083
XMax: -749111.5019448414
YMax: -1028821.7168862941
Spatial Reference: 102067
(5514)
LatestVCSWkid(0)
Pixel Size X: 0.16510033020094528
Pixel Size Y: 0.16510033020094658
Band Count: 1
Pixel Type: U8
RasterFunction Infos: {"rasterFunctionInfos": [{
"name": "None",
"description": "",
"help": ""
}]}
Mensuration Capabilities: Basic
Inspection Capabilities:
Has Histograms: true
Has Colormap: true
Has Multi Dimensions : false
Rendering Rule:
Min Scale: 0
Max Scale: 0
Copyright Text:
Service Data Type: esriImageServiceDataTypeThematic
Min Values: 0
Max Values: 2
Mean Values: 0.067883215937895
Standard Deviation Values: 0.26892842465807
Object ID Field:
Fields:
None
Default Mosaic Method: Center
Allowed Mosaic Methods:
SortField:
SortValue: null
Mosaic Operator: First
Default Compression Quality: 75
Default Resampling Method: Nearest
Max Record Count: null
Max Image Height: 4100
Max Image Width: 15000
Max Download Image Count: null
Max Mosaic Image Count: null
Allow Raster Function: true
Allow Copy: true
Allow Analysis: true
Allow Compute TiePoints: false
Supports Statistics: false
Supports Advanced Queries: false
Use StandardizedQueries: true
Raster Type Infos:
Name: Raster Dataset
Description: Supports all ArcGIS Raster Datasets
Help:
Has Raster Attribute Table: true
Edit Fields Info: null
Ownership Based AccessControl For Rasters: null
Child Resources:
Info
Raster Attribute Table
Histograms
Statistics
Key Properties
Color Map
Legend
Raster Function Infos
Supported Operations:
Export Image
Identify
Measure
Compute Histograms
Compute Statistics Histograms
Get Samples
Compute Class Statistics
Query Boundary
Compute Pixel Location
Compute Angles
Validate
Project