{
 "currentVersion": 11.5,
 "serviceDescription": "Imagery/Eroze_LPIS",
 "serviceItemId": "e7c805df004c4468a2e6518ec09e0e64",
 "name": "Imagery/Eroze_LPIS",
 "description": "",
 "extent": {
  "xmin": -752083.3078884584,
  "ymin": -1031298.2218393083,
  "xmax": -749111.5019448414,
  "ymax": -1028821.7168862941,
  "spatialReference": {
   "wkid": 102067,
   "latestWkid": 5514
  }
 },
 "initialExtent": {
  "xmin": -752083.3078884584,
  "ymin": -1031298.2218393083,
  "xmax": -749111.5019448414,
  "ymax": -1028821.7168862941,
  "spatialReference": {
   "wkid": 102067,
   "latestWkid": 5514
  }
 },
 "fullExtent": {
  "xmin": -752083.3078884584,
  "ymin": -1031298.2218393083,
  "xmax": -749111.5019448414,
  "ymax": -1028821.7168862941,
  "spatialReference": {
   "wkid": 102067,
   "latestWkid": 5514
  }
 },
 "sortableFields": "",
 "bandCount": 1,
 "pixelType": "U8",
 "minValues": [
  0
 ],
 "maxValues": [
  2
 ],
 "meanValues": [
  0.067883215937895
 ],
 "stdvValues": [
  0.26892842465807
 ],
 "serviceProperties": "Center<\/MosaicMethod>First<\/MosaicOperator>true<\/SortAscending><\/LockImageID><\/TileOrderField>0<\/TileOrderBase>0,000000<\/AvgImageSpacingX>0,000000<\/AvgImageSpacingY>0.0<\/ViewPointX>0.0<\/ViewPointY>0.0<\/ViewPointDefShiftX>0.0<\/ViewPointDefShiftY>None<\/CompressionMethod>75<\/CompressionQuality>0,010000<\/CompressionTolerance>Nearest<\/SamplingMethod><\/ImageServiceProperties><\/ImageServer>",
 "allowedFields": "",
 "hasMultidimensions": false,
 "pixelSizeX": 0.16510033020094528,
 "pixelSizeY": 0.16510033020094658,
 "meanPixelSize": 0.16510033020094594,
 "datasetFormat": "TIFF",
 "uncompressedSize": 270000000,
 "blockWidth": 128,
 "blockHeight": 128,
 "compressionType": "LZW",
 "bandNames": [
  "Band_1"
 ],
 "allowCopy": true,
 "allowAnalysis": true,
 "itemAccess": false,
 "inspectionCapabilities": "",
 "noDataValue": 4,
 "noDataValues": [
  4
 ],
 "minPixelSize": 0,
 "maxPixelSize": 0,
 "copyrightText": "",
 "serviceDataType": "esriImageServiceDataTypeThematic",
 "serviceSourceType": "esriImageServiceSourceTypeDataset",
 "objectIdField": "",
 "fields": [],
 "capabilities": "Image, Metadata, Mensuration",
 "defaultMosaicMethod": "Center",
 "allowedMosaicMethods": "",
 "sortField": "",
 "sortValue": null,
 "sortAscending": true,
 "mosaicOperator": "First",
 "defaultCompressionQuality": 75,
 "defaultResamplingMethod": "Nearest",
 "maxImageHeight": 4100,
 "maxImageWidth": 15000,
 "allowRasterFunction": true,
 "rasterFunctionInfos": [
  {
   "name": "None",
   "description": "",
   "help": ""
  }
 ],
 "rasterTypeInfos": [
  {
   "name": "Raster Dataset",
   "description": "Supports all ArcGIS Raster Datasets",
   "help": ""
  }
 ],
 "mensurationCapabilities": "Basic",
 "hasHistograms": true,
 "hasColormap": true,
 "hasRasterAttributeTable": true,
 "minScale": 0,
 "maxScale": 0,
 "exportTilesAllowed": false,
 "supportsStatistics": false,
 "supportsAdvancedQueries": false,
 "editFieldsInfo": null,
 "ownershipBasedAccessControlForRasters": null,
 "allowComputeTiePoints": false,
 "useStandardizedQueries": true,
 "advancedQueryCapabilities": {
  "useStandardizedQueries": true,
  "supportsStatistics": false,
  "supportsOrderBy": false,
  "supportsDistinct": false,
  "supportsPagination": false
 },
 "spatialReference": {
  "wkid": 102067,
  "latestWkid": 5514
 }
}
