View In:
ArcGIS JavaScript
ArcGIS Online Map Viewer
ArcGIS Earth
Service Description: PodkladoveVrstvy/Natural_Czechia
Name: PodkladoveVrstvy/Natural_Czechia
Description:
Single Fused Map Cache: false
Extent:
XMin: -245695.1353506466
YMin: 2020350.9230586467
XMax: 245654.8646493534
YMax: 2309975.9230586467
Spatial Reference: 0
(0)
LatestVCSWkid(0)
Initial Extent:
XMin: -245695.1353506466
YMin: 2020350.9230586467
XMax: 245654.8646493534
YMax: 2309975.9230586467
Spatial Reference: 0
(0)
LatestVCSWkid(0)
Full Extent:
XMin: -245695.1353506466
YMin: 2020350.9230586467
XMax: 245654.8646493534
YMax: 2309975.9230586467
Spatial Reference: 0
(0)
LatestVCSWkid(0)
Pixel Size X: 25.0
Pixel Size Y: 25.0
Band Count: 3
Pixel Type: U8
RasterFunction Infos: {"rasterFunctionInfos": [{
"name": "None",
"description": "",
"help": ""
}]}
Mensuration Capabilities: Basic
Inspection Capabilities:
Has Histograms: true
Has Colormap: false
Has Multi Dimensions : false
Rendering Rule:
Min Scale: 0
Max Scale: 0
Copyright Text:
Service Data Type: esriImageServiceDataTypeRGB
Min Values: 69, 84, 69
Max Values: 255, 255, 255
Mean Values: 180.44071645784, 188.66688263732, 146.28300639035
Standard Deviation Values: 39.350475284717, 27.148546253891, 21.708724004501
Object ID Field:
Fields:
None
Default Mosaic Method: Center
Allowed Mosaic Methods:
SortField:
SortValue: null
Mosaic Operator: First
Default Compression Quality: 75
Default Resampling Method: Bilinear
Max Record Count: null
Max Image Height: 4100
Max Image Width: 15000
Max Download Image Count: null
Max Mosaic Image Count: null
Allow Raster Function: true
Allow Copy: true
Allow Analysis: true
Allow Compute TiePoints: false
Supports Statistics: false
Supports Advanced Queries: false
Use StandardizedQueries: true
Raster Type Infos:
Name: Raster Dataset
Description: Supports all ArcGIS Raster Datasets
Help:
Has Raster Attribute Table: false
Edit Fields Info: null
Ownership Based AccessControl For Rasters: null
Child Resources:
Info
Histograms
Statistics
Key Properties
Legend
Raster Function Infos
Supported Operations:
Export Image
Identify
Measure
Compute Histograms
Compute Statistics Histograms
Get Samples
Compute Class Statistics
Query Boundary
Compute Pixel Location
Compute Angles
Validate
Project