{
 "version": 1.0,
 "tileBundlesPath": "./tile",
 "storageInfo": {
  "packetSize": 128,
  "storageFormat": "esriMapCacheStorageModeCompactV2"
 },
 "tileImageInfo": {
  "format": "MIXED",
  "compressionQuality": 75,
  "bandCount": 1,
  "lercError": 0
 },
 "tileInfo": {
  "spatialReference": {
   "wkid": 102100,
   "latestWkid": 3857
  },
  "origin": {
   "x": -2.0037508342787E7,
   "y": 2.0037508342787E7
  },
  "rows": 512,
  "cols": 512,
  "dpi": 96,
  "lods": [
   {
    "level": 0,
    "resolution": 78271.516964,
    "scale": 2.9582876379577726E8
   },
   {
    "level": 1,
    "resolution": 39135.75848199995,
    "scale": 1.4791438189788842E8
   },
   {
    "level": 2,
    "resolution": 19567.87924100005,
    "scale": 7.395719094894451E7
   },
   {
    "level": 3,
    "resolution": 9783.93962049995,
    "scale": 3.697859547447197E7
   },
   {
    "level": 4,
    "resolution": 4891.96981024998,
    "scale": 1.8489297737236E7
   },
   {
    "level": 5,
    "resolution": 2445.98490512499,
    "scale": 9244648.868618
   },
   {
    "level": 6,
    "resolution": 1222.992452562495,
    "scale": 4622324.434309
   },
   {
    "level": 7,
    "resolution": 611.496226281245,
    "scale": 2311162.2171544908
   },
   {
    "level": 8,
    "resolution": 305.74811314069,
    "scale": 1155581.1085775006
   },
   {
    "level": 9,
    "resolution": 152.874056570279,
    "scale": 577790.5542885009
   },
   {
    "level": 10,
    "resolution": 76.4370282852055,
    "scale": 288895.2771444999
   },
   {
    "level": 11,
    "resolution": 38.2185141425366,
    "scale": 144447.6385719999
   },
   {
    "level": 12,
    "resolution": 19.1092570712683,
    "scale": 72223.81928599995
   },
   {
    "level": 13,
    "resolution": 9.55462853563415,
    "scale": 36111.90964299998
   },
   {
    "level": 14,
    "resolution": 4.777314267817075,
    "scale": 18055.95482149999
   },
   {
    "level": 15,
    "resolution": 2.388657133974685,
    "scale": 9027.977411
   },
   {
    "level": 16,
    "resolution": 1.19432856698734,
    "scale": 4513.988705499991
   },
   {
    "level": 17,
    "resolution": 0.597164283427525,
    "scale": 2256.9943524999994
   },
   {
    "level": 18,
    "resolution": 0.2985821417799085,
    "scale": 1128.4971764999998
   },
   {
    "level": 19,
    "resolution": 0.1492910708238085,
    "scale": 564.2485880000006
   },
   {
    "level": 20,
    "resolution": 0.07464553541190416,
    "scale": 282.124294
   },
   {
    "level": 21,
    "resolution": 0.03732276770595208,
    "scale": 141.062147
   },
   {
    "level": 22,
    "resolution": 0.01866138385297604,
    "scale": 70.5310735
   }
  ],
  "format": "MIXED",
  "compressionQuality": 75,
  "bandCount": 1,
  "lercError": 0,
  "storageFormat": "esriMapCacheStorageModeCompactV2",
  "packetSize": 128
 },
 "name": "Analýza_OZE_v_ČR_WTL2",
 "serviceDescription": "",
 "spatialReference": {
  "wkid": 102100,
  "latestWkid": 3857,
  "xyTolerance": 0.001,
  "zTolerance": 0.001,
  "mTolerance": 0.001,
  "falseX": -20037700,
  "falseY": -30241100,
  "xyUnits": 10000,
  "falseZ": -100000,
  "zUnits": 10000,
  "falseM": -100000,
  "mUnits": 10000
 },
 "units": "esriMeters",
 "minLOD": 6,
 "maxLOD": 12,
 "resampling": true,
 "layers": [
  {
   "id": 0,
   "name": "Větrné_ek_podmínky_původní",
   "parentLayerId": -1,
   "defaultVisibility": false,
   "subLayerIds": null,
   "minScale": 0,
   "maxScale": 0,
   "type": "Raster Layer",
   "supportsDynamicLegends": true,
   "legend": [
    {
     "label": "1 - 0",
     "imageData": "iVBORw0KGgoAAAANSUhEUgAAABQAAAA8CAYAAABmdppWAAAACXBIWXMAAA7EAAAOxAGVKw4bAAAAXElEQVRYhe3UwQkAMQwDwTy2/4YlcleE/AhYW4CJJ2Duvd8ZDNuT8w6Sztsv9PMDtc9Q+1Z2DdOoYRw1jKPnK46FhppeWfsM/fynuCunUcM4ahhHDePoxY5jn+EPhDiy86pHgCsAAAAASUVORK5CYII=",
     "contentType": "image/png",
     "groupId": "0",
     "height": 60,
     "width": 20,
     "layerId": 0,
     "layerName": "Větrné_ek_podmínky_původní"
    }
   ],
   "layerId": 0,
   "layerName": "Větrné_ek_podmínky_původní",
   "serviceItemId": "e0034a4b66ba4117ba176931e2854dcf"
  }
 ],
 "initialExtent": {
  "xmin": 1328885.1141701282,
  "ymin": 6180952.207411199,
  "xmax": 2117038.6956754625,
  "ymax": 6640073.8790852,
  "spatialReference": {
   "wkid": 102100,
   "latestWkid": 3857,
   "xyTolerance": 0.001,
   "zTolerance": 0.001,
   "mTolerance": 0.001,
   "falseX": -20037700,
   "falseY": -30241100,
   "xyUnits": 10000,
   "falseZ": -100000,
   "zUnits": 10000,
   "falseM": -100000,
   "mUnits": 10000
  }
 },
 "fullExtent": {
  "xmin": 1328885.1141701282,
  "ymin": 6180952.207411199,
  "xmax": 2117038.6956754625,
  "ymax": 6640073.8790852,
  "spatialReference": {
   "wkid": 102100,
   "latestWkid": 3857,
   "xyTolerance": 0.001,
   "zTolerance": 0.001,
   "mTolerance": 0.001,
   "falseX": -20037700,
   "falseY": -30241100,
   "xyUnits": 10000,
   "falseZ": -100000,
   "zUnits": 10000,
   "falseM": -100000,
   "mUnits": 10000
  }
 },
 "minScale": 0,
 "maxScale": 0,
 "exportTilesAllowed": false,
 "maxExportTilesCount": 0,
 "currentVersion": 11.5,
 "mapName": "Analýza_OZE_v_ČR_WTL2",
 "singleFusedMapCache": true,
 "type": "MapServer",
 "supportedExtensions": "",
 "capabilities": "TilesOnly,Tilemap",
 "serviceItemId": "e0034a4b66ba4117ba176931e2854dcf"
}
